BEGIN:VCALENDAR
VERSION:2.0
PRODID:-//BlueSwing - ECPv6.15.18//NONSGML v1.0//EN
CALSCALE:GREGORIAN
METHOD:PUBLISH
X-WR-CALNAME:BlueSwing
X-ORIGINAL-URL:http://www.blueswing-dour.net
X-WR-CALDESC:Évènements pour BlueSwing
REFRESH-INTERVAL;VALUE=DURATION:PT1H
X-Robots-Tag:noindex
X-PUBLISHED-TTL:PT1H
BEGIN:VTIMEZONE
TZID:Europe/Paris
BEGIN:DAYLIGHT
TZOFFSETFROM:+0100
TZOFFSETTO:+0200
TZNAME:CEST
DTSTART:19950326T010000
END:DAYLIGHT
BEGIN:STANDARD
TZOFFSETFROM:+0200
TZOFFSETTO:+0100
TZNAME:CET
DTSTART:19950924T010000
END:STANDARD
BEGIN:DAYLIGHT
TZOFFSETFROM:+0100
TZOFFSETTO:+0200
TZNAME:CEST
DTSTART:19960331T010000
END:DAYLIGHT
BEGIN:STANDARD
TZOFFSETFROM:+0200
TZOFFSETTO:+0100
TZNAME:CET
DTSTART:19961027T010000
END:STANDARD
BEGIN:DAYLIGHT
TZOFFSETFROM:+0100
TZOFFSETTO:+0200
TZNAME:CEST
DTSTART:19970330T010000
END:DAYLIGHT
BEGIN:STANDARD
TZOFFSETFROM:+0200
TZOFFSETTO:+0100
TZNAME:CET
DTSTART:19971026T010000
END:STANDARD
END:VTIMEZONE
BEGIN:VEVENT
DTSTART;TZID=Europe/Paris:19960128T000000
DTEND;TZID=Europe/Paris:19960128T000000
DTSTAMP:20260425T151919
CREATED:20220419T150415Z
LAST-MODIFIED:20220419T150415Z
UID:682-822787200-822787200@www.blueswing-dour.net
SUMMARY:Remise des prix de l’Académie de Colfontaine
DESCRIPTION:Remise des prix de l’Académie de Colfontaine
URL:http://www.blueswing-dour.net/event/remise-des-prix-de-lacademie-de-colfontaine-13/
END:VEVENT
END:VCALENDAR