BEGIN:VCALENDAR
VERSION:2.0
PRODID:-//BlueSwing - ECPv6.15.18//NONSGML v1.0//EN
CALSCALE:GREGORIAN
METHOD:PUBLISH
X-ORIGINAL-URL:http://www.blueswing-dour.net
X-WR-CALDESC:Évènements pour BlueSwing
REFRESH-INTERVAL;VALUE=DURATION:PT1H
X-Robots-Tag:noindex
X-PUBLISHED-TTL:PT1H
BEGIN:VTIMEZONE
TZID:Europe/Paris
BEGIN:DAYLIGHT
TZOFFSETFROM:+0100
TZOFFSETTO:+0200
TZNAME:CEST
DTSTART:19960331T010000
END:DAYLIGHT
BEGIN:STANDARD
TZOFFSETFROM:+0200
TZOFFSETTO:+0100
TZNAME:CET
DTSTART:19961027T010000
END:STANDARD
BEGIN:DAYLIGHT
TZOFFSETFROM:+0100
TZOFFSETTO:+0200
TZNAME:CEST
DTSTART:19970330T010000
END:DAYLIGHT
BEGIN:STANDARD
TZOFFSETFROM:+0200
TZOFFSETTO:+0100
TZNAME:CET
DTSTART:19971026T010000
END:STANDARD
BEGIN:DAYLIGHT
TZOFFSETFROM:+0100
TZOFFSETTO:+0200
TZNAME:CEST
DTSTART:19980329T010000
END:DAYLIGHT
BEGIN:STANDARD
TZOFFSETFROM:+0200
TZOFFSETTO:+0100
TZNAME:CET
DTSTART:19981025T010000
END:STANDARD
END:VTIMEZONE
BEGIN:VEVENT
DTSTART;TZID=Europe/Paris:19971108T000000
DTEND;TZID=Europe/Paris:19971108T000000
DTSTAMP:20260424T053359
CREATED:20220419T145839Z
LAST-MODIFIED:20220419T145839Z
UID:663-878947200-878947200@www.blueswing-dour.net
SUMMARY:Concert annuel : Thème : Les Vacances
DESCRIPTION:Concert annuel : Thème : Les Vacances
URL:http://www.blueswing-dour.net/event/concert-annuel-theme-les-vacances/
END:VEVENT
BEGIN:VEVENT
DTSTART;TZID=Europe/Paris:19971129T000000
DTEND;TZID=Europe/Paris:19971129T000000
DTSTAMP:20260424T053359
CREATED:20220419T145839Z
LAST-MODIFIED:20220419T145839Z
UID:662-880761600-880761600@www.blueswing-dour.net
SUMMARY:Concert organisé par « Cocktail d’Artistes »
DESCRIPTION:Concert organisé par « Cocktail d’Artistes »
URL:http://www.blueswing-dour.net/event/concert-organise-par-cocktail-dartistes/
END:VEVENT
END:VCALENDAR