BEGIN:VCALENDAR
VERSION:2.0
PRODID:-//BlueSwing - ECPv6.15.18//NONSGML v1.0//EN
CALSCALE:GREGORIAN
METHOD:PUBLISH
X-ORIGINAL-URL:http://www.blueswing-dour.net
X-WR-CALDESC:Évènements pour BlueSwing
REFRESH-INTERVAL;VALUE=DURATION:PT1H
X-Robots-Tag:noindex
X-PUBLISHED-TTL:PT1H
BEGIN:VTIMEZONE
TZID:Europe/Paris
BEGIN:DAYLIGHT
TZOFFSETFROM:+0100
TZOFFSETTO:+0200
TZNAME:CEST
DTSTART:19980329T010000
END:DAYLIGHT
BEGIN:STANDARD
TZOFFSETFROM:+0200
TZOFFSETTO:+0100
TZNAME:CET
DTSTART:19981025T010000
END:STANDARD
BEGIN:DAYLIGHT
TZOFFSETFROM:+0100
TZOFFSETTO:+0200
TZNAME:CEST
DTSTART:19990328T010000
END:DAYLIGHT
BEGIN:STANDARD
TZOFFSETFROM:+0200
TZOFFSETTO:+0100
TZNAME:CET
DTSTART:19991031T010000
END:STANDARD
BEGIN:DAYLIGHT
TZOFFSETFROM:+0100
TZOFFSETTO:+0200
TZNAME:CEST
DTSTART:20000326T010000
END:DAYLIGHT
BEGIN:STANDARD
TZOFFSETFROM:+0200
TZOFFSETTO:+0100
TZNAME:CET
DTSTART:20001029T010000
END:STANDARD
END:VTIMEZONE
BEGIN:VEVENT
DTSTART;TZID=Europe/Paris:19990627T000000
DTEND;TZID=Europe/Paris:19990627T000000
DTSTAMP:20260420T230843
CREATED:20220419T145701Z
LAST-MODIFIED:20220419T145701Z
UID:651-930441600-930441600@www.blueswing-dour.net
SUMMARY:Remise des prix des Ecoles Communales de Colfonatine
DESCRIPTION:Remise des prix des Ecoles Communales de Colfonatine
URL:http://www.blueswing-dour.net/event/remise-des-prix-des-ecoles-communales-de-colfonatine/
END:VEVENT
END:VCALENDAR