BEGIN:VCALENDAR
VERSION:2.0
PRODID:-//BlueSwing - ECPv6.15.18//NONSGML v1.0//EN
CALSCALE:GREGORIAN
METHOD:PUBLISH
X-WR-CALNAME:BlueSwing
X-ORIGINAL-URL:http://www.blueswing-dour.net
X-WR-CALDESC:Évènements pour BlueSwing
REFRESH-INTERVAL;VALUE=DURATION:PT1H
X-Robots-Tag:noindex
X-PUBLISHED-TTL:PT1H
BEGIN:VTIMEZONE
TZID:Europe/Paris
BEGIN:DAYLIGHT
TZOFFSETFROM:+0100
TZOFFSETTO:+0200
TZNAME:CEST
DTSTART:19980329T010000
END:DAYLIGHT
BEGIN:STANDARD
TZOFFSETFROM:+0200
TZOFFSETTO:+0100
TZNAME:CET
DTSTART:19981025T010000
END:STANDARD
BEGIN:DAYLIGHT
TZOFFSETFROM:+0100
TZOFFSETTO:+0200
TZNAME:CEST
DTSTART:19990328T010000
END:DAYLIGHT
BEGIN:STANDARD
TZOFFSETFROM:+0200
TZOFFSETTO:+0100
TZNAME:CET
DTSTART:19991031T010000
END:STANDARD
BEGIN:DAYLIGHT
TZOFFSETFROM:+0100
TZOFFSETTO:+0200
TZNAME:CEST
DTSTART:20000326T010000
END:DAYLIGHT
BEGIN:STANDARD
TZOFFSETFROM:+0200
TZOFFSETTO:+0100
TZNAME:CET
DTSTART:20001029T010000
END:STANDARD
END:VTIMEZONE
BEGIN:VEVENT
DTSTART;TZID=Europe/Paris:19991016T000000
DTEND;TZID=Europe/Paris:19991016T000000
DTSTAMP:20260420T142601
CREATED:20220419T145646Z
LAST-MODIFIED:20220419T145646Z
UID:650-940032000-940032000@www.blueswing-dour.net
SUMMARY:Concert du 135ème anniversaire de la fanfare l’Union (Les Bleus)
DESCRIPTION:Concert du 135ème anniversaire de la fanfare l’Union (Les Bleus)
URL:http://www.blueswing-dour.net/event/concert-du-135eme-anniversaire-de-la-fanfare-lunion-les-bleus/
END:VEVENT
BEGIN:VEVENT
DTSTART;TZID=Europe/Paris:19991023T000000
DTEND;TZID=Europe/Paris:19991023T000000
DTSTAMP:20260420T142601
CREATED:20220419T145646Z
LAST-MODIFIED:20220419T145646Z
UID:649-940636800-940636800@www.blueswing-dour.net
SUMMARY:Gala du 10ème anniversaire de la salle culturelle
DESCRIPTION:Gala du 10ème anniversaire de la salle culturelle
URL:http://www.blueswing-dour.net/event/gala-du-10eme-anniversaire-de-la-salle-culturelle/
END:VEVENT
END:VCALENDAR