BEGIN:VCALENDAR
VERSION:2.0
PRODID:-//BlueSwing - ECPv6.15.18//NONSGML v1.0//EN
CALSCALE:GREGORIAN
METHOD:PUBLISH
X-ORIGINAL-URL:http://www.blueswing-dour.net
X-WR-CALDESC:Évènements pour BlueSwing
REFRESH-INTERVAL;VALUE=DURATION:PT1H
X-Robots-Tag:noindex
X-PUBLISHED-TTL:PT1H
BEGIN:VTIMEZONE
TZID:Europe/Paris
BEGIN:DAYLIGHT
TZOFFSETFROM:+0100
TZOFFSETTO:+0200
TZNAME:CEST
DTSTART:19990328T010000
END:DAYLIGHT
BEGIN:STANDARD
TZOFFSETFROM:+0200
TZOFFSETTO:+0100
TZNAME:CET
DTSTART:19991031T010000
END:STANDARD
BEGIN:DAYLIGHT
TZOFFSETFROM:+0100
TZOFFSETTO:+0200
TZNAME:CEST
DTSTART:20000326T010000
END:DAYLIGHT
BEGIN:STANDARD
TZOFFSETFROM:+0200
TZOFFSETTO:+0100
TZNAME:CET
DTSTART:20001029T010000
END:STANDARD
BEGIN:DAYLIGHT
TZOFFSETFROM:+0100
TZOFFSETTO:+0200
TZNAME:CEST
DTSTART:20010325T010000
END:DAYLIGHT
BEGIN:STANDARD
TZOFFSETFROM:+0200
TZOFFSETTO:+0100
TZNAME:CET
DTSTART:20011028T010000
END:STANDARD
END:VTIMEZONE
BEGIN:VEVENT
DTSTART;TZID=Europe/Paris:20000720T000000
DTEND;TZID=Europe/Paris:20000720T000000
DTSTAMP:20260419T231001
CREATED:20220419T145500Z
LAST-MODIFIED:20220419T145500Z
UID:639-964051200-964051200@www.blueswing-dour.net
SUMMARY:TOURNéE AZUR 2000
DESCRIPTION:TOURNéE AZUR 2000
URL:http://www.blueswing-dour.net/event/tournee-azur-2000-5/
END:VEVENT
BEGIN:VEVENT
DTSTART;TZID=Europe/Paris:20000722T000000
DTEND;TZID=Europe/Paris:20000722T000000
DTSTAMP:20260419T231001
CREATED:20220419T145302Z
LAST-MODIFIED:20220419T145302Z
UID:638-964224000-964224000@www.blueswing-dour.net
SUMMARY:TOURNéE AZUR 2000
DESCRIPTION:TOURNéE AZUR 2000
URL:http://www.blueswing-dour.net/event/tournee-azur-2000-4/
END:VEVENT
BEGIN:VEVENT
DTSTART;TZID=Europe/Paris:20000723T000000
DTEND;TZID=Europe/Paris:20000723T000000
DTSTAMP:20260419T231001
CREATED:20220419T145301Z
LAST-MODIFIED:20220419T145301Z
UID:637-964310400-964310400@www.blueswing-dour.net
SUMMARY:TOURNéE AZUR 2000
DESCRIPTION:TOURNéE AZUR 2000
URL:http://www.blueswing-dour.net/event/tournee-azur-2000-3/
END:VEVENT
BEGIN:VEVENT
DTSTART;TZID=Europe/Paris:20000725T000000
DTEND;TZID=Europe/Paris:20000725T000000
DTSTAMP:20260419T231001
CREATED:20220419T145301Z
LAST-MODIFIED:20220419T145301Z
UID:636-964483200-964483200@www.blueswing-dour.net
SUMMARY:TOURNéE AZUR 2000
DESCRIPTION:TOURNéE AZUR 2000
URL:http://www.blueswing-dour.net/event/tournee-azur-2000-2/
END:VEVENT
BEGIN:VEVENT
DTSTART;TZID=Europe/Paris:20000726T000000
DTEND;TZID=Europe/Paris:20000726T000000
DTSTAMP:20260419T231001
CREATED:20220419T145301Z
LAST-MODIFIED:20220419T145301Z
UID:635-964569600-964569600@www.blueswing-dour.net
SUMMARY:TOURNéE AZUR 2000
DESCRIPTION:TOURNéE AZUR 2000
URL:http://www.blueswing-dour.net/event/tournee-azur-2000/
END:VEVENT
END:VCALENDAR